BEGIN:VCALENDAR
VERSION:2.0
PRODID:-//eventon.com NONSGML v1.0//EN
CALSCALE:GREGORIAN
METHOD:PUBLISH
BEGIN:VEVENT
UID:69e7398e4c441
DTSTAMP:20260421T084710Z
DTSTART:20250417T140000Z
DTEND:20250420T113000Z
LOCATION:Forum Vinzenz Pallotti Pallottistr. 3\,  56179 Vallendar
SUMMARY:"Was sucht ihr den Lebenden bei den Toten“ ... - Geheimnis des Glaubens: Im Tod ist das Leben
DESCRIPTION:[vc_row][vc_column][vc_column_text css=""]Die Botschaft der Eng
 el an die Frauen am Ostermorgen\,  gilt auch uns heute. In all die Unsicher
 heiten\,  Bedrängnisse und Ängste unserer Zeit\,  will die Botschaft von 
 Tod und Auferstehung Jesu auch uns Hoffnung und Perspektive geben. Egal was
  ist\,  wie aussichtslos vielleicht manche Situation ist\,  es ist nicht da
 s[..]\nhttps://www.forum-pallotti.de/events/kar-und-ostertage-2/
URL:https://www.forum-pallotti.de/events/kar-und-ostertage-2/
END:VEVENT
END:VCALENDAR