BEGIN:VCALENDAR
VERSION:2.0
PRODID:-//eventon.com NONSGML v1.0//EN
CALSCALE:GREGORIAN
METHOD:PUBLISH
BEGIN:VEVENT
UID:69e73aae660d5
DTSTAMP:20260421T085158Z
DTSTART:20251223T143000Z
DTEND:20251226T110000Z
LOCATION:Forum Vinzenz Pallotti Pallottistr. 3\,  56179 Vallendar
SUMMARY:"Dich schickt der Himmel ...“ Gottes Nähe – mitten im Leben
DESCRIPTION:[vc_row][vc_column][vc_column_text css=""]Weihnachten bringt in
  Bewegung\,  lässt Erinnerungen und Sehnsüchte wach werden. Aspekte des L
 ebens\,  die im Alltag leicht untergehen können\,  kommen neu zum Klingen.
 .. – In der Bibel wird durch Menschen und Ereignisse immer wieder Gottes 
 Nähe präsent: mal überraschend – mal nach längerem Suchen und Warten.
  Und in unserem[..]\nhttps://www.forum-pallotti.de/events/weihnachten-gemei
 nsam-feiern/
URL:https://www.forum-pallotti.de/events/weihnachten-gemeinsam-feiern/
END:VEVENT
END:VCALENDAR